BEGIN:VCALENDAR
VERSION:2.0
PRODID:-//pretix//FSR_Pretix//
BEGIN:VTIMEZONE
TZID:Europe/Berlin
BEGIN:STANDARD
DTSTART:20001029T040000
RRULE:FREQ=YEARLY;BYDAY=-1SU;BYMONTH=10
TZNAME:CET
TZOFFSETFROM:+0200
TZOFFSETTO:+0100
END:STANDARD
BEGIN:DAYLIGHT
DTSTART:20000326T030000
RRULE:FREQ=YEARLY;BYDAY=-1SU;BYMONTH=3
TZNAME:CEST
TZOFFSETFROM:+0100
TZOFFSETTO:+0200
END:DAYLIGHT
END:VTIMEZONE
BEGIN:VEVENT
UID:pretix-fsi-sommerfahrt26-0@fahrt.fsi.rub.de
DTSTART;TZID=Europe/Berlin:20260430T150000
DTEND;TZID=Europe/Berlin:20260503T110000
DESCRIPTION:Tickets: https://fahrt.fsi.rub.de/\nVeranstalter: Fachschaften 
 der Informatik
DTSTAMP:20260424T165843Z
LOCATION:Baal 5\, 47652 Weeze.
SUMMARY:Sommerfahrt 2026
END:VEVENT
END:VCALENDAR
